Package: gpuMagic Version: 1.24.0 Command: /home/biocbuild/bbs-3.21-bioc/R/bin/R CMD INSTALL gpuMagic StartedAt: 2025-10-15 15:12:52 -0400 (Wed, 15 Oct 2025) EndedAt: 2025-10-15 15:12:54 -0400 (Wed, 15 Oct 2025) EllapsedTime: 2.5 seconds RetCode: 1 Status: ERROR