Package: gpuMagic Version: 1.24.0 Command: /home/biocbuild/bbs-3.21-bioc/R/bin/R CMD build --keep-empty-dirs --no-resave-data gpuMagic StartedAt: 2025-10-15 17:49:37 -0400 (Wed, 15 Oct 2025) EndedAt: 2025-10-15 17:49:40 -0400 (Wed, 15 Oct 2025) EllapsedTime: 3.0 seconds RetCode: 1 Status: ERROR PackageFile: None PackageFileSize: NA