Package: gpuMagic Version: 1.24.0 Command: /Library/Frameworks/R.framework/Resources/bin/R CMD check --install=check:gpuMagic.install-out.txt --library=/Library/Frameworks/R.framework/Resources/library --no-vignettes --timings gpuMagic_1.24.0.tar.gz StartedAt: 2025-04-25 05:03:06 -0400 (Fri, 25 Apr 2025) EndedAt: 2025-04-25 05:07:14 -0400 (Fri, 25 Apr 2025) EllapsedTime: 248.7 seconds RetCode: 0 Status: WARNINGS CheckDir: gpuMagic.Rcheck Warnings: 1