Package: gpls Version: 1.80.0 Command: rm -rf gpls.buildbin-libdir && mkdir gpls.buildbin-libdir && E:\biocbuild\bbs-3.21-bioc\R\bin\R.exe CMD INSTALL --build --library=gpls.buildbin-libdir gpls_1.80.0.tar.gz StartedAt: 2025-08-15 09:25:50 -0400 (Fri, 15 Aug 2025) EndedAt: 2025-08-15 09:26:07 -0400 (Fri, 15 Aug 2025) EllapsedTime: 17.7 seconds RetCode: 0 Status: OK PackageFile: gpls_1.80.0.zip PackageFileSize: 168.4 KiB