Package: goatea Version: 1.0.0 Command: /home/biocbuild/bbs-3.22-bioc/R/bin/R CMD INSTALL goatea StartedAt: 2025-11-05 15:55:04 -0500 (Wed, 05 Nov 2025) EndedAt: 2025-11-05 15:55:33 -0500 (Wed, 05 Nov 2025) EllapsedTime: 29.4 seconds RetCode: 0 Status: OK