Package: goatea Version: 1.0.0 Command: /home/biocbuild/bbs-3.22-bioc/R/bin/R CMD build --keep-empty-dirs --no-resave-data --md5 goatea StartedAt: 2025-11-05 18:04:41 -0500 (Wed, 05 Nov 2025) EndedAt: 2025-11-05 18:06:46 -0500 (Wed, 05 Nov 2025) EllapsedTime: 125.1 seconds RetCode: 1 Status: ERROR PackageFile: None PackageFileSize: NA