Package: goatea Version: 1.0.0 Command: /Library/Frameworks/R.framework/Resources/bin/R CMD INSTALL goatea StartedAt: 2025-11-06 15:25:10 -0500 (Thu, 06 Nov 2025) EndedAt: 2025-11-06 15:25:22 -0500 (Thu, 06 Nov 2025) EllapsedTime: 12.0 seconds RetCode: 0 Status: OK