Package: goatea Version: 1.0.0 Command: /Library/Frameworks/R.framework/Resources/bin/R CMD build --keep-empty-dirs --no-resave-data goatea StartedAt: 2025-11-06 16:35:12 -0500 (Thu, 06 Nov 2025) EndedAt: 2025-11-06 16:36:07 -0500 (Thu, 06 Nov 2025) EllapsedTime: 55.6 seconds RetCode: 1 Status: ERROR PackageFile: None PackageFileSize: NA