Package: goatea Version: 1.0.0 Command: /Library/Frameworks/R.framework/Resources/bin/R CMD build --keep-empty-dirs --no-resave-data goatea StartedAt: 2025-11-21 02:15:50 -0500 (Fri, 21 Nov 2025) EndedAt: 2025-11-21 02:18:42 -0500 (Fri, 21 Nov 2025) EllapsedTime: 172.8 seconds RetCode: 0 Status: OK PackageFile: goatea_1.0.0.tar.gz PackageFileSize: 1.836 MiB