Package: goTools Version: 1.82.0 Command: /home/biocbuild/bbs-3.21-bioc/R/bin/R CMD INSTALL goTools StartedAt: 2025-10-15 15:45:58 -0400 (Wed, 15 Oct 2025) EndedAt: 2025-10-15 15:46:10 -0400 (Wed, 15 Oct 2025) EllapsedTime: 11.8 seconds RetCode: 0 Status: OK