Package: goTools Version: 1.82.0 Command: /home/biocbuild/bbs-3.21-bioc/R/bin/R CMD build --keep-empty-dirs --no-resave-data goTools StartedAt: 2025-10-15 17:49:18 -0400 (Wed, 15 Oct 2025) EndedAt: 2025-10-15 17:49:37 -0400 (Wed, 15 Oct 2025) EllapsedTime: 19.0 seconds RetCode: 0 Status: OK PackageFile: goTools_1.82.0.tar.gz PackageFileSize: 241.9 KiB