Package: goSorensen Version: 1.10.0 Command: /home/biocbuild/R/R/bin/R CMD INSTALL goSorensen StartedAt: 2025-05-12 21:11:16 -0000 (Mon, 12 May 2025) EndedAt: 2025-05-12 21:11:36 -0000 (Mon, 12 May 2025) EllapsedTime: 20.6 seconds RetCode: 0 Status: OK