Package: goSorensen Version: 1.10.0 Command: /home/biocbuild/R/R/bin/R CMD build --keep-empty-dirs --no-resave-data goSorensen StartedAt: 2025-05-13 01:09:39 -0000 (Tue, 13 May 2025) EndedAt: 2025-05-13 01:15:05 -0000 (Tue, 13 May 2025) EllapsedTime: 326.1 seconds RetCode: 0 Status: OK PackageFile: goSorensen_1.10.0.tar.gz PackageFileSize: 1013 KiB