Package: goSorensen Version: 1.10.0 Command: /Library/Frameworks/R.framework/Resources/bin/R CMD check --install=check:goSorensen.install-out.txt --library=/Library/Frameworks/R.framework/Resources/library --no-vignettes --timings goSorensen_1.10.0.tar.gz StartedAt: 2025-05-16 21:25:09 -0400 (Fri, 16 May 2025) EndedAt: 2025-05-16 21:33:13 -0400 (Fri, 16 May 2025) EllapsedTime: 484.2 seconds RetCode: 0 Status: OK CheckDir: goSorensen.Rcheck Warnings: 0