Package: goSorensen Version: 1.10.0 Command: /Library/Frameworks/R.framework/Resources/bin/R CMD build --keep-empty-dirs --no-resave-data goSorensen StartedAt: 2025-05-16 01:00:57 -0400 (Fri, 16 May 2025) EndedAt: 2025-05-16 01:05:21 -0400 (Fri, 16 May 2025) EllapsedTime: 264.3 seconds RetCode: 0 Status: OK PackageFile: goSorensen_1.10.0.tar.gz PackageFileSize: 932.8 KiB