Package: goSorensen Version: 1.10.0 Maintainer: Pablo Flores MaintainerEmail: p_flores at espoch.edu.ec git_url: https://git.bioconductor.org/packages/goSorensen git_branch: RELEASE_3_21 git_last_commit: b1b685d git_last_commit_date: 2025-04-15 12:54:20 -0400 (Tue, 15 Apr 2025)