Package: gmoviz Version: 1.18.0 Command: chmod a+r gmoviz -R && F:\biocbuild\bbs-3.20-bioc\R\bin\R.exe CMD build --keep-empty-dirs --no-resave-data gmoviz StartedAt: 2025-01-30 19:17:04 -0500 (Thu, 30 Jan 2025) EndedAt: 2025-01-30 19:19:23 -0500 (Thu, 30 Jan 2025) EllapsedTime: 139.3 seconds RetCode: 0 Status: OK PackageFile: gmoviz_1.18.0.tar.gz PackageFileSize: 4.721 MiB