Package: gmoviz
Version: 1.18.0
Command: /home/biocbuild/R/R/bin/R CMD build --keep-empty-dirs --no-resave-data gmoviz
StartedAt: 2024-11-20 01:04:38 -0000 (Wed, 20 Nov 2024)
EndedAt: 2024-11-20 01:07:12 -0000 (Wed, 20 Nov 2024)
EllapsedTime: 154.2 seconds
RetCode: 0
Status: OK
PackageFile: gmoviz_1.18.0.tar.gz
PackageFileSize: 4.253 <A href="http://en.wikipedia.org/wiki/MiB" target="_blank">MiB</A>