Package: gmoviz Version: 1.20.0 Command: /Library/Frameworks/R.framework/Resources/bin/R CMD INSTALL gmoviz StartedAt: 2025-04-21 15:30:47 -0400 (Mon, 21 Apr 2025) EndedAt: 2025-04-21 15:31:02 -0400 (Mon, 21 Apr 2025) EllapsedTime: 14.9 seconds RetCode: 0 Status: OK