Package: gmapR Version: 1.50.0 Command: /Library/Frameworks/R.framework/Resources/bin/R CMD check --install=check:gmapR.install-out.txt --library=/Library/Frameworks/R.framework/Resources/library --no-vignettes --timings gmapR_1.50.0.tar.gz StartedAt: 2025-05-02 04:08:52 -0400 (Fri, 02 May 2025) EndedAt: 2025-05-02 04:21:58 -0400 (Fri, 02 May 2025) EllapsedTime: 785.6 seconds RetCode: 0 Status: WARNINGS CheckDir: gmapR.Rcheck Warnings: 7