Package: gmapR Version: 1.50.0 Command: rm -rf gmapR.buildbin-libdir && mkdir gmapR.buildbin-libdir && /Users/biocbuild/BBS/utils/build-universal.sh gmapR_1.50.0.tar.gz /Library/Frameworks/R.framework/Resources/bin/R gmapR.buildbin-libdir StartedAt: 2025-05-02 13:23:35 -0400 (Fri, 02 May 2025) EndedAt: 2025-05-02 13:40:17 -0400 (Fri, 02 May 2025) EllapsedTime: 1001.9 seconds RetCode: 0 Status: OK PackageFile: gmapR_1.50.0.tgz PackageFileSize: 22.11 MiB