Package: gmapR Version: 1.50.0 Command: /Library/Frameworks/R.framework/Resources/bin/R CMD check --install=check:gmapR.install-out.txt --library=/Library/Frameworks/R.framework/Resources/library --no-vignettes --timings gmapR_1.50.0.tar.gz StartedAt: 2025-04-21 21:03:28 -0400 (Mon, 21 Apr 2025) EndedAt: 2025-04-21 21:11:28 -0400 (Mon, 21 Apr 2025) EllapsedTime: 480.1 seconds RetCode: 0 Status: WARNINGS CheckDir: gmapR.Rcheck Warnings: 7