Package: gmapR Version: 1.50.0 Command: /home/biocbuild/R/R/bin/R CMD build --keep-empty-dirs --no-resave-data gmapR StartedAt: 2025-05-06 01:08:54 -0000 (Tue, 06 May 2025) EndedAt: 2025-05-06 01:20:26 -0000 (Tue, 06 May 2025) EllapsedTime: 692.2 seconds RetCode: 0 Status: OK PackageFile: gmapR_1.50.0.tar.gz PackageFileSize: 26.01 MiB