Package: gmapR Version: 1.50.0 Command: /Library/Frameworks/R.framework/Resources/bin/R CMD INSTALL gmapR StartedAt: 2025-04-21 15:21:00 -0400 (Mon, 21 Apr 2025) EndedAt: 2025-04-21 15:23:19 -0400 (Mon, 21 Apr 2025) EllapsedTime: 138.9 seconds RetCode: 0 Status: OK