Package: gmapR Version: 1.50.0 Command: /Library/Frameworks/R.framework/Resources/bin/R CMD build --keep-empty-dirs --no-resave-data gmapR StartedAt: 2025-04-21 16:30:01 -0400 (Mon, 21 Apr 2025) EndedAt: 2025-04-21 16:32:48 -0400 (Mon, 21 Apr 2025) EllapsedTime: 166.8 seconds RetCode: 0 Status: OK PackageFile: gmapR_1.50.0.tar.gz PackageFileSize: 25.38 MiB