Package: globalSeq Version: 1.36.0 Command: chmod a+r globalSeq -R && E:\biocbuild\bbs-3.21-bioc\R\bin\R.exe CMD build --keep-empty-dirs --no-resave-data globalSeq StartedAt: 2025-08-14 19:28:23 -0400 (Thu, 14 Aug 2025) EndedAt: 2025-08-14 19:28:44 -0400 (Thu, 14 Aug 2025) EllapsedTime: 21.2 seconds RetCode: 0 Status: OK PackageFile: globalSeq_1.36.0.tar.gz PackageFileSize: 714.6 KiB