Package: glmSparseNet Version: 1.26.0 Command: /home/biocbuild/R/R/bin/R CMD INSTALL glmSparseNet StartedAt: 2025-06-12 20:58:11 -0000 (Thu, 12 Jun 2025) EndedAt: 2025-06-12 20:58:15 -0000 (Thu, 12 Jun 2025) EllapsedTime: 4.1 seconds RetCode: 0 Status: OK