Package: glmSparseNet Version: 1.26.0 Command: /home/biocbuild/R/R/bin/R CMD build --keep-empty-dirs --no-resave-data glmSparseNet StartedAt: 2025-06-13 01:26:52 -0000 (Fri, 13 Jun 2025) EndedAt: 2025-06-13 02:06:53 -0000 (Fri, 13 Jun 2025) EllapsedTime: 2400.5 seconds RetCode: None Status: TIMEOUT PackageFile: None PackageFileSize: NA