Package: glmSparseNet Version: 1.26.0 Command: /Library/Frameworks/R.framework/Resources/bin/R CMD INSTALL glmSparseNet StartedAt: 2025-07-14 17:24:08 -0400 (Mon, 14 Jul 2025) EndedAt: 2025-07-14 17:24:12 -0400 (Mon, 14 Jul 2025) EllapsedTime: 3.9 seconds RetCode: 0 Status: OK