Package: glmGamPoi Version: 1.20.0 Maintainer: Constantin Ahlmann-Eltze MaintainerEmail: artjom31415 at googlemail.com git_url: https://git.bioconductor.org/packages/glmGamPoi git_branch: RELEASE_3_21 git_last_commit: 6fb5b42 git_last_commit_date: 2025-04-15 11:56:50 -0400 (Tue, 15 Apr 2025)