Package: ggtreeExtra Version: 1.16.0 Command: /home/biocbuild/R/R/bin/R CMD build --keep-empty-dirs --no-resave-data ggtreeExtra StartedAt: 2025-01-30 23:56:34 -0000 (Thu, 30 Jan 2025) EndedAt: 2025-01-30 23:57:00 -0000 (Thu, 30 Jan 2025) EllapsedTime: 26.0 seconds RetCode: 0 Status: OK PackageFile: ggtreeExtra_1.16.0.tar.gz PackageFileSize: 302.8 KiB