Package: ggtreeDendro Version: 1.8.0 Command: /home/biocbuild/R/R/bin/R CMD check --install=check:ggtreeDendro.install-out.txt --library=/home/biocbuild/R/R/site-library --no-vignettes --timings ggtreeDendro_1.8.0.tar.gz StartedAt: 2025-01-31 06:45:06 -0000 (Fri, 31 Jan 2025) EndedAt: 2025-01-31 06:46:20 -0000 (Fri, 31 Jan 2025) EllapsedTime: 74.1 seconds RetCode: 0 Status: WARNINGS CheckDir: ggtreeDendro.Rcheck Warnings: 1