Package: ggtreeDendro Version: 1.10.0 Command: /Library/Frameworks/R.framework/Resources/bin/R CMD build --keep-empty-dirs --no-resave-data ggtreeDendro StartedAt: 2025-10-09 19:22:45 -0400 (Thu, 09 Oct 2025) EndedAt: 2025-10-09 19:23:22 -0400 (Thu, 09 Oct 2025) EllapsedTime: 37.3 seconds RetCode: 0 Status: OK PackageFile: ggtreeDendro_1.10.0.tar.gz PackageFileSize: 409.9 KiB