Package: ggtreeDendro Version: 1.10.0 Command: /home/biocbuild/R/R/bin/R CMD build --keep-empty-dirs --no-resave-data ggtreeDendro StartedAt: 2025-05-16 01:00:12 -0000 (Fri, 16 May 2025) EndedAt: 2025-05-16 01:00:34 -0000 (Fri, 16 May 2025) EllapsedTime: 22.0 seconds RetCode: 0 Status: OK PackageFile: ggtreeDendro_1.10.0.tar.gz PackageFileSize: 293.3 KiB