Back to Multiple platform build/check report for BioC 3.21:   simplified   long
ABCDEF[G]HIJKLMNOPQRSTUVWXYZ

This page was generated on 2025-07-24 11:40 -0400 (Thu, 24 Jul 2025).

HostnameOSArch (*)R versionInstalled pkgs
nebbiolo1Linux (Ubuntu 24.04.2 LTS)x86_644.5.1 (2025-06-13) -- "Great Square Root" 4821
palomino7Windows Server 2022 Datacenterx644.5.1 (2025-06-13 ucrt) -- "Great Square Root" 4563
merida1macOS 12.7.5 Montereyx86_644.5.1 RC (2025-06-05 r88288) -- "Great Square Root" 4601
kjohnson1macOS 13.6.6 Venturaarm644.5.1 Patched (2025-06-14 r88325) -- "Great Square Root" 4542
kunpeng2Linux (openEuler 24.03 LTS)aarch64R Under development (unstable) (2025-02-19 r87757) -- "Unsuffered Consequences" 4578
Click on any hostname to see more info about the system (e.g. compilers)      (*) as reported by 'uname -p', except on Windows and Mac OS X

All results for package ggtree


To the developers/maintainers of the ggtree package:
- Allow up to 24 hours (and sometimes 48 hours) for your latest push to git@git.bioconductor.org:packages/ggtree.git to reflect on this report. See Troubleshooting Build Report for more information.
- Use the following Renviron settings to reproduce errors and warnings.
- If 'R CMD check' started to fail recently on the Linux builder(s) over a missing dependency, add the missing dependency to 'Suggests:' in your DESCRIPTION file. See Renviron.bioc for more information.

raw results

Package 875/2341HostnameOS / ArchINSTALLBUILDCHECKBUILD BIN
ggtree 3.16.3  (landing page)
Guangchuang Yu
Snapshot Date: 2025-07-21 13:40 -0400 (Mon, 21 Jul 2025)
git_url: https://git.bioconductor.org/packages/ggtree
git_branch: RELEASE_3_21
git_last_commit: 19798cf
git_last_commit_date: 2025-07-11 12:54:16 -0400 (Fri, 11 Jul 2025)
nebbiolo1Linux (Ubuntu 24.04.2 LTS) / x86_64  OK    OK    OK  UNNEEDED, same version is already published
palomino7Windows Server 2022 Datacenter / x64  OK    OK    OK    OK  UNNEEDED, same version is already published
merida1macOS 12.7.5 Monterey / x86_64  OK    OK    OK    OK  UNNEEDED, same version is already published
kjohnson1macOS 13.6.6 Ventura / arm64  OK    OK    OK    OK  UNNEEDED, same version is already published
kunpeng2Linux (openEuler 24.03 LTS) / aarch64  OK    OK    NA  



Results for Bioconductor software packages that depend directly on package ggtree

QUICK STATSOS / ArchINSTALLBUILDCHECKBUILD BIN
nebbiolo1Linux (Ubuntu 24.04.2 LTS) / x86_64
0027
0027
00522
palomino7Windows Server 2022 Datacenter / x64
0027
0126
00521
0026
merida1macOS 12.7.5 Monterey / x86_64
0027
0027
10521
0027
kjohnson1macOS 13.6.6 Ventura / arm64
0126
0126
00521
0026
kunpeng2Linux (openEuler 24.03 LTS) / aarch64
0126
0225
0004
Package 1/27HostnameOS / ArchINSTALLBUILDCHECKBUILD BIN
cardelino 1.10.0  (landing page)
Davis McCarthy
git_last_commit: a4f4dbb
git_last_commit_date: 2025-04-15 12:58:19 -0400
nebbiolo1Linux (Ubuntu 24.04.2 LTS) / x86_64  OK    OK    OK  UNNEEDED, same version is already published
palomino7Windows Server 2022 Datacenter / x64  OK    OK    OK    OK  UNNEEDED, same version is already published
merida1macOS 12.7.5 Monterey / x86_64  OK    OK    OK    OK  UNNEEDED, same version is already published
kjohnson1macOS 13.6.6 Ventura / arm64  OK    OK    OK    OK  UNNEEDED, same version is already published
kunpeng2Linux (openEuler 24.03 LTS) / aarch64  OK    OK    OK  
Package 2/27HostnameOS / ArchINSTALLBUILDCHECKBUILD BIN
cogeqc 1.12.0  (landing page)
Fabrício Almeida-Silva
git_last_commit: 3865eea
git_last_commit_date: 2025-04-15 12:50:35 -0400
nebbiolo1Linux (Ubuntu 24.04.2 LTS) / x86_64  OK    OK    OK  UNNEEDED, same version is already published
palomino7Windows Server 2022 Datacenter / x64  OK    OK    OK    OK  UNNEEDED, same version is already published
merida1macOS 12.7.5 Monterey / x86_64  OK    OK    OK    OK  UNNEEDED, same version is already published
kjohnson1macOS 13.6.6 Ventura / arm64  OK    OK    OK    OK  UNNEEDED, same version is already published
kunpeng2Linux (openEuler 24.03 LTS) / aarch64  OK    OK    OK  
Package 3/27HostnameOS / ArchINSTALLBUILDCHECKBUILD BIN
crumblr 1.0.0  (landing page)
Gabriel Hoffman
git_last_commit: e586680
git_last_commit_date: 2025-04-15 13:49:52 -0400
nebbiolo1Linux (Ubuntu 24.04.2 LTS) / x86_64  OK    OK    OK  UNNEEDED, same version is already published
palomino7Windows Server 2022 Datacenter / x64  OK    ERROR  skippedskipped
merida1macOS 12.7.5 Monterey / x86_64  OK    OK    OK    OK  UNNEEDED, same version is already published
kjohnson1macOS 13.6.6 Ventura / arm64  OK    OK    OK    OK  UNNEEDED, same version is already published
kunpeng2Linux (openEuler 24.03 LTS) / aarch64  OK    OK    OK  
Package 4/27HostnameOS / ArchINSTALLBUILDCHECKBUILD BIN
enrichplot 1.28.4  (landing page)
Guangchuang Yu
git_last_commit: b89d6d4
git_last_commit_date: 2025-07-14 02:07:02 -0400
nebbiolo1Linux (Ubuntu 24.04.2 LTS) / x86_64  OK    OK    OK  UNNEEDED, same version is already published
palomino7Windows Server 2022 Datacenter / x64  OK    OK    OK    OK  UNNEEDED, same version is already published
merida1macOS 12.7.5 Monterey / x86_64  OK    OK    OK    OK  UNNEEDED, same version is already published
kjohnson1macOS 13.6.6 Ventura / arm64  OK    OK    OK    OK  UNNEEDED, same version is already published
kunpeng2Linux (openEuler 24.03 LTS) / aarch64  OK    OK    OK  
Package 5/27HostnameOS / ArchINSTALLBUILDCHECKBUILD BIN
ggmsa 1.14.1  (landing page)
Guangchuang Yu
git_last_commit: 7531c01
git_last_commit_date: 2025-07-12 03:37:19 -0400
nebbiolo1Linux (Ubuntu 24.04.2 LTS) / x86_64  OK    OK    OK  UNNEEDED, same version is already published
palomino7Windows Server 2022 Datacenter / x64  OK    OK    OK    OK  UNNEEDED, same version is already published
merida1macOS 12.7.5 Monterey / x86_64  OK    OK    OK    OK  UNNEEDED, same version is already published
kjohnson1macOS 13.6.6 Ventura / arm64  OK    OK    OK    OK  UNNEEDED, same version is already published
kunpeng2Linux (openEuler 24.03 LTS) / aarch64  ERROR    ERROR  skipped
Package 6/27HostnameOS / ArchINSTALLBUILDCHECKBUILD BIN
ggtreeDendro 1.10.0  (landing page)
Guangchuang Yu
git_last_commit: aac65c0
git_last_commit_date: 2025-04-15 12:57:35 -0400
nebbiolo1Linux (Ubuntu 24.04.2 LTS) / x86_64  OK    OK    WARNINGS  UNNEEDED, same version is already published
palomino7Windows Server 2022 Datacenter / x64  OK    OK    WARNINGS    OK  UNNEEDED, same version is already published
merida1macOS 12.7.5 Monterey / x86_64  OK    OK    WARNINGS    OK  UNNEEDED, same version is already published
kjohnson1macOS 13.6.6 Ventura / arm64  OK    OK    WARNINGS    OK  UNNEEDED, same version is already published
kunpeng2Linux (openEuler 24.03 LTS) / aarch64  OK    OK    NA  
Package 7/27HostnameOS / ArchINSTALLBUILDCHECKBUILD BIN
ggtreeExtra 1.18.0  (landing page)
Shuangbin Xu
git_last_commit: 2be0f5c
git_last_commit_date: 2025-04-15 12:05:48 -0400
nebbiolo1Linux (Ubuntu 24.04.2 LTS) / x86_64  OK    OK    OK  UNNEEDED, same version is already published
palomino7Windows Server 2022 Datacenter / x64  OK    OK    OK    OK  UNNEEDED, same version is already published
merida1macOS 12.7.5 Monterey / x86_64  OK    OK    OK    OK  UNNEEDED, same version is already published
kjohnson1macOS 13.6.6 Ventura / arm64  OK    OK    OK    OK  UNNEEDED, same version is already published
kunpeng2Linux (openEuler 24.03 LTS) / aarch64  OK    OK    NA  
Package 8/27HostnameOS / ArchINSTALLBUILDCHECKBUILD BIN
ggtreeSpace 1.4.0  (landing page)
Guangchuang Yu
git_last_commit: 6b06ae4
git_last_commit_date: 2025-04-15 13:34:09 -0400
nebbiolo1Linux (Ubuntu 24.04.2 LTS) / x86_64  OK    OK    WARNINGS  UNNEEDED, same version is already published
palomino7Windows Server 2022 Datacenter / x64  OK    OK    WARNINGS    OK  UNNEEDED, same version is already published
merida1macOS 12.7.5 Monterey / x86_64  OK    OK    WARNINGS    OK  UNNEEDED, same version is already published
kjohnson1macOS 13.6.6 Ventura / arm64  OK    OK    WARNINGS    OK  UNNEEDED, same version is already published
kunpeng2Linux (openEuler 24.03 LTS) / aarch64  OK    OK    NA  
Package 9/27HostnameOS / ArchINSTALLBUILDCHECKBUILD BIN
gINTomics 1.4.0  (landing page)
Angelo Velle
git_last_commit: 839137e
git_last_commit_date: 2025-04-15 13:34:55 -0400
nebbiolo1Linux (Ubuntu 24.04.2 LTS) / x86_64  OK    OK    OK  UNNEEDED, same version is already published
palomino7Windows Server 2022 Datacenter / x64  OK    OK    OK    OK  UNNEEDED, same version is already published
merida1macOS 12.7.5 Monterey / x86_64  OK    OK    OK    OK  UNNEEDED, same version is already published
kjohnson1macOS 13.6.6 Ventura / arm64  OK    OK    OK    OK  UNNEEDED, same version is already published
kunpeng2Linux (openEuler 24.03 LTS) / aarch64  OK    OK    NA  
Package 10/27HostnameOS / ArchINSTALLBUILDCHECKBUILD BIN
iSEEtree 1.2.0  (landing page)
Giulio Benedetti
git_last_commit: 3ba9d47
git_last_commit_date: 2025-04-15 13:38:10 -0400
nebbiolo1Linux (Ubuntu 24.04.2 LTS) / x86_64  OK    OK    WARNINGS  UNNEEDED, same version is already published
palomino7Windows Server 2022 Datacenter / x64  OK    OK    WARNINGS    OK  NO, package depends on 'mia' which is only available as a source package that needs compilation
merida1macOS 12.7.5 Monterey / x86_64  OK    OK    WARNINGS    OK  UNNEEDED, same version is already published
kjohnson1macOS 13.6.6 Ventura / arm64  OK    OK    WARNINGS    OK  UNNEEDED, same version is already published
kunpeng2Linux (openEuler 24.03 LTS) / aarch64  OK    OK    NA  
Package 11/27HostnameOS / ArchINSTALLBUILDCHECKBUILD BIN
lefser 1.18.0  (landing page)
Sehyun Oh
git_last_commit: 6f4a412
git_last_commit_date: 2025-04-15 12:14:21 -0400
nebbiolo1Linux (Ubuntu 24.04.2 LTS) / x86_64  OK    OK    WARNINGS  UNNEEDED, same version is already published
palomino7Windows Server 2022 Datacenter / x64  OK    OK    WARNINGS    OK  NO, package depends on 'mia' which is only available as a source package that needs compilation
merida1macOS 12.7.5 Monterey / x86_64  OK    OK    WARNINGS    OK  UNNEEDED, same version is already published
kjohnson1macOS 13.6.6 Ventura / arm64  OK    OK    WARNINGS    OK  UNNEEDED, same version is already published
kunpeng2Linux (openEuler 24.03 LTS) / aarch64  OK    OK    NA  
Package 12/27HostnameOS / ArchINSTALLBUILDCHECKBUILD BIN
LinTInd 1.12.0  (landing page)
Luyue Wang
git_last_commit: 6f017ed
git_last_commit_date: 2025-04-15 12:45:30 -0400
nebbiolo1Linux (Ubuntu 24.04.2 LTS) / x86_64  OK    OK    OK  UNNEEDED, same version is already published
palomino7Windows Server 2022 Datacenter / x64  OK    OK    OK    OK  UNNEEDED, same version is already published
merida1macOS 12.7.5 Monterey / x86_64  OK    OK    OK    OK  UNNEEDED, same version is already published
kjohnson1macOS 13.6.6 Ventura / arm64  OK    OK    OK    OK  UNNEEDED, same version is already published
kunpeng2Linux (openEuler 24.03 LTS) / aarch64  OK    OK    NA  
Package 13/27HostnameOS / ArchINSTALLBUILDCHECKBUILD BIN
LymphoSeq 1.36.0  (landing page)
David Coffey
git_last_commit: e09579f
git_last_commit_date: 2025-04-15 11:01:17 -0400
nebbiolo1Linux (Ubuntu 24.04.2 LTS) / x86_64  OK    OK    OK  UNNEEDED, same version is already published
palomino7Windows Server 2022 Datacenter / x64  OK    OK    OK    OK  UNNEEDED, same version is already published
merida1macOS 12.7.5 Monterey / x86_64  OK    OK    OK    OK  UNNEEDED, same version is already published
kjohnson1macOS 13.6.6 Ventura / arm64  ERROR    ERROR  skippedskipped
kunpeng2Linux (openEuler 24.03 LTS) / aarch64  OK    OK    NA  
Package 14/27HostnameOS / ArchINSTALLBUILDCHECKBUILD BIN
miaViz 1.16.0  (landing page)
Tuomas Borman
git_last_commit: b1ea3a8
git_last_commit_date: 2025-04-15 12:24:26 -0400
nebbiolo1Linux (Ubuntu 24.04.2 LTS) / x86_64  OK    OK    OK  UNNEEDED, same version is already published
palomino7Windows Server 2022 Datacenter / x64  OK    OK    OK    OK  NO, package depends on 'mia' which is only available as a source package that needs compilation
merida1macOS 12.7.5 Monterey / x86_64  OK    OK    OK    OK  UNNEEDED, same version is already published
kjohnson1macOS 13.6.6 Ventura / arm64  OK    OK    OK    OK  UNNEEDED, same version is already published
kunpeng2Linux (openEuler 24.03 LTS) / aarch64  OK    OK    NA  
Package 15/27HostnameOS / ArchINSTALLBUILDCHECKBUILD BIN
MicrobiotaProcess 1.20.1  (landing page)
Shuangbin Xu
git_last_commit: c6d9972
git_last_commit_date: 2025-05-08 12:28:42 -0400
nebbiolo1Linux (Ubuntu 24.04.2 LTS) / x86_64  OK    OK    OK  UNNEEDED, same version is already published
palomino7Windows Server 2022 Datacenter / x64  OK    OK    OK    OK  UNNEEDED, same version is already published
merida1macOS 12.7.5 Monterey / x86_64  OK    OK    OK    OK  UNNEEDED, same version is already published
kjohnson1macOS 13.6.6 Ventura / arm64  OK    OK    OK    OK  UNNEEDED, same version is already published
kunpeng2Linux (openEuler 24.03 LTS) / aarch64  OK    OK    NA  
Package 16/27HostnameOS / ArchINSTALLBUILDCHECKBUILD BIN
mitology 1.0.0  (landing page)
Stefania Pirrotta
git_last_commit: db56417
git_last_commit_date: 2025-04-15 13:52:21 -0400
nebbiolo1Linux (Ubuntu 24.04.2 LTS) / x86_64  OK    OK    OK  UNNEEDED, same version is already published
palomino7Windows Server 2022 Datacenter / x64  OK    OK    OK    OK  UNNEEDED, same version is already published
merida1macOS 12.7.5 Monterey / x86_64  OK    OK    OK    OK  UNNEEDED, same version is already published
kjohnson1macOS 13.6.6 Ventura / arm64  OK    OK    OK    OK  UNNEEDED, same version is already published
kunpeng2Linux (openEuler 24.03 LTS) / aarch64  OK    OK    NA  
Package 17/27HostnameOS / ArchINSTALLBUILDCHECKBUILD BIN
orthogene 1.14.0  (landing page)
Brian Schilder
git_last_commit: 7b06689
git_last_commit_date: 2025-04-15 12:38:37 -0400
nebbiolo1Linux (Ubuntu 24.04.2 LTS) / x86_64  OK    OK    OK  UNNEEDED, same version is already published
palomino7Windows Server 2022 Datacenter / x64  OK    OK    OK    OK  UNNEEDED, same version is already published
merida1macOS 12.7.5 Monterey / x86_64  OK    OK    OK    OK  UNNEEDED, same version is already published
kjohnson1macOS 13.6.6 Ventura / arm64  OK    OK    OK    OK  UNNEEDED, same version is already published
kunpeng2Linux (openEuler 24.03 LTS) / aarch64  OK    OK    NA  
Package 18/27HostnameOS / ArchINSTALLBUILDCHECKBUILD BIN
philr 1.34.0  (landing page)
Justin Silverman
git_last_commit: 1d9ba3b
git_last_commit_date: 2025-04-15 11:04:49 -0400
nebbiolo1Linux (Ubuntu 24.04.2 LTS) / x86_64  OK    OK    OK  UNNEEDED, same version is already published
palomino7Windows Server 2022 Datacenter / x64  OK    OK    OK    OK  UNNEEDED, same version is already published
merida1macOS 12.7.5 Monterey / x86_64  OK    OK    OK    OK  UNNEEDED, same version is already published
kjohnson1macOS 13.6.6 Ventura / arm64  OK    OK    OK    OK  UNNEEDED, same version is already published
kunpeng2Linux (openEuler 24.03 LTS) / aarch64  OK    OK    NA  
Package 19/27HostnameOS / ArchINSTALLBUILDCHECKBUILD BIN
scBubbletree 1.10.0  (landing page)
Simo Kitanovski
git_last_commit: 1263d94
git_last_commit_date: 2025-04-15 12:56:50 -0400
nebbiolo1Linux (Ubuntu 24.04.2 LTS) / x86_64  OK    OK    OK  UNNEEDED, same version is already published
palomino7Windows Server 2022 Datacenter / x64  OK    OK    OK    OK  UNNEEDED, same version is already published
merida1macOS 12.7.5 Monterey / x86_64  OK    OK    OK    OK  UNNEEDED, same version is already published
kjohnson1macOS 13.6.6 Ventura / arm64  OK    OK    OK    OK  UNNEEDED, same version is already published
kunpeng2Linux (openEuler 24.03 LTS) / aarch64  OK    OK    NA  
Package 20/27HostnameOS / ArchINSTALLBUILDCHECKBUILD BIN
scDotPlot 1.2.1  (landing page)
Benjamin I Laufer
git_last_commit: 749db9f
git_last_commit_date: 2025-07-10 13:23:40 -0400
nebbiolo1Linux (Ubuntu 24.04.2 LTS) / x86_64  OK    OK    OK  UNNEEDED, same version is already published
palomino7Windows Server 2022 Datacenter / x64  OK    OK    OK    OK  UNNEEDED, same version is already published
merida1macOS 12.7.5 Monterey / x86_64  OK    OK    OK    OK  UNNEEDED, same version is already published
kjohnson1macOS 13.6.6 Ventura / arm64  OK    OK    OK    OK  UNNEEDED, same version is already published
kunpeng2Linux (openEuler 24.03 LTS) / aarch64  OK    OK    NA  
Package 21/27HostnameOS / ArchINSTALLBUILDCHECKBUILD BIN
singleCellTK 2.18.1  (landing page)
Joshua David Campbell
git_last_commit: f519d00e
git_last_commit_date: 2025-07-01 15:40:07 -0400
nebbiolo1Linux (Ubuntu 24.04.2 LTS) / x86_64  OK    OK    OK  UNNEEDED, same version is already published
palomino7Windows Server 2022 Datacenter / x64  OK    OK    OK    OK  UNNEEDED, same version is already published
merida1macOS 12.7.5 Monterey / x86_64  OK    OK    TIMEOUT    OK  
kjohnson1macOS 13.6.6 Ventura / arm64  OK    OK    OK    OK  UNNEEDED, same version is already published
kunpeng2Linux (openEuler 24.03 LTS) / aarch64  OK    OK    NA  
Package 22/27HostnameOS / ArchINSTALLBUILDCHECKBUILD BIN
sitePath 1.24.0  (landing page)
Chengyang Ji
git_last_commit: c308da0
git_last_commit_date: 2025-04-15 11:43:03 -0400
nebbiolo1Linux (Ubuntu 24.04.2 LTS) / x86_64  OK    OK    OK  UNNEEDED, same version is already published
palomino7Windows Server 2022 Datacenter / x64  OK    OK    OK    OK  UNNEEDED, same version is already published
merida1macOS 12.7.5 Monterey / x86_64  OK    OK    OK    OK  UNNEEDED, same version is already published
kjohnson1macOS 13.6.6 Ventura / arm64  OK    OK    OK    OK  UNNEEDED, same version is already published
kunpeng2Linux (openEuler 24.03 LTS) / aarch64  OK    OK    NA  
Package 23/27HostnameOS / ArchINSTALLBUILDCHECKBUILD BIN
SVP 1.0.2  (landing page)
Shuangbin Xu
git_last_commit: 951bd75
git_last_commit_date: 2025-06-15 05:11:04 -0400
nebbiolo1Linux (Ubuntu 24.04.2 LTS) / x86_64  OK    OK    OK  UNNEEDED, same version is already published
palomino7Windows Server 2022 Datacenter / x64  OK    OK    OK    OK  UNNEEDED, same version is already published
merida1macOS 12.7.5 Monterey / x86_64  OK    OK    OK    OK  UNNEEDED, same version is already published
kjohnson1macOS 13.6.6 Ventura / arm64  OK    OK    OK    OK  UNNEEDED, same version is already published
kunpeng2Linux (openEuler 24.03 LTS) / aarch64  OK    ERROR  skipped
Package 24/27HostnameOS / ArchINSTALLBUILDCHECKBUILD BIN
systemPipeTools 1.16.0  (landing page)
Daniela Cassol
git_last_commit: b73e58c
git_last_commit_date: 2025-04-15 12:33:06 -0400
nebbiolo1Linux (Ubuntu 24.04.2 LTS) / x86_64  OK    OK    WARNINGS  UNNEEDED, same version is already published
palomino7Windows Server 2022 Datacenter / x64  OK    OK    WARNINGS    OK  UNNEEDED, same version is already published
merida1macOS 12.7.5 Monterey / x86_64  OK    OK    WARNINGS    OK  UNNEEDED, same version is already published
kjohnson1macOS 13.6.6 Ventura / arm64  OK    OK    WARNINGS    OK  UNNEEDED, same version is already published
kunpeng2Linux (openEuler 24.03 LTS) / aarch64  OK    OK    NA  
Package 25/27HostnameOS / ArchINSTALLBUILDCHECKBUILD BIN
tanggle 1.14.0  (landing page)
Klaus Schliep
git_last_commit: 7820da5
git_last_commit_date: 2025-04-15 12:37:36 -0400
nebbiolo1Linux (Ubuntu 24.04.2 LTS) / x86_64  OK    OK    OK  UNNEEDED, same version is already published
palomino7Windows Server 2022 Datacenter / x64  OK    OK    OK    OK  UNNEEDED, same version is already published
merida1macOS 12.7.5 Monterey / x86_64  OK    OK    OK    OK  UNNEEDED, same version is already published
kjohnson1macOS 13.6.6 Ventura / arm64  OK    OK    OK    OK  UNNEEDED, same version is already published
kunpeng2Linux (openEuler 24.03 LTS) / aarch64  OK    OK    NA  
Package 26/27HostnameOS / ArchINSTALLBUILDCHECKBUILD BIN
treeclimbR 1.4.0  (landing page)
Charlotte Soneson
git_last_commit: 86b3b2b
git_last_commit_date: 2025-04-15 13:30:29 -0400
nebbiolo1Linux (Ubuntu 24.04.2 LTS) / x86_64  OK    OK    OK  UNNEEDED, same version is already published
palomino7Windows Server 2022 Datacenter / x64  OK    OK    OK    OK  UNNEEDED, same version is already published
merida1macOS 12.7.5 Monterey / x86_64  OK    OK    OK    OK  UNNEEDED, same version is already published
kjohnson1macOS 13.6.6 Ventura / arm64  OK    OK    OK    OK  UNNEEDED, same version is already published
kunpeng2Linux (openEuler 24.03 LTS) / aarch64  OK    OK    NA  
Package 27/27HostnameOS / ArchINSTALLBUILDCHECKBUILD BIN
treekoR 1.16.0  (landing page)
Adam Chan
git_last_commit: d8a669a
git_last_commit_date: 2025-04-15 12:27:19 -0400
nebbiolo1Linux (Ubuntu 24.04.2 LTS) / x86_64  OK    OK    OK  UNNEEDED, same version is already published
palomino7Windows Server 2022 Datacenter / x64  OK    OK    OK    OK  UNNEEDED, same version is already published
merida1macOS 12.7.5 Monterey / x86_64  OK    OK    OK    OK  UNNEEDED, same version is already published
kjohnson1macOS 13.6.6 Ventura / arm64  OK    OK    OK    OK  UNNEEDED, same version is already published
kunpeng2Linux (openEuler 24.03 LTS) / aarch64  OK    OK    NA