Package: ggspavis Version: 1.12.0 Command: /home/biocbuild/R/R/bin/R CMD build --keep-empty-dirs --no-resave-data ggspavis StartedAt: 2025-01-30 23:56:16 -0000 (Thu, 30 Jan 2025) EndedAt: 2025-01-30 23:58:07 -0000 (Thu, 30 Jan 2025) EllapsedTime: 111.1 seconds RetCode: 0 Status: OK PackageFile: ggspavis_1.12.0.tar.gz PackageFileSize: 2.267 MiB