Package: ggspavis Version: 1.12.0 Command: F:\biocbuild\bbs-3.20-bioc\R\bin\R.exe CMD check --no-multiarch --install=check:ggspavis.install-out.txt --library=F:\biocbuild\bbs-3.20-bioc\R\library --no-vignettes --timings ggspavis_1.12.0.tar.gz StartedAt: 2025-01-31 02:32:05 -0500 (Fri, 31 Jan 2025) EndedAt: 2025-01-31 02:37:59 -0500 (Fri, 31 Jan 2025) EllapsedTime: 353.6 seconds RetCode: 0 Status: OK CheckDir: ggspavis.Rcheck Warnings: 0