Package: ggspavis Version: 1.14.0 Command: /Library/Frameworks/R.framework/Resources/bin/R CMD INSTALL ggspavis StartedAt: 2025-04-21 15:15:13 -0400 (Mon, 21 Apr 2025) EndedAt: 2025-04-21 15:15:24 -0400 (Mon, 21 Apr 2025) EllapsedTime: 11.1 seconds RetCode: 0 Status: OK