Package: ggspavis Version: 1.14.0 Command: /Library/Frameworks/R.framework/Resources/bin/R CMD build --keep-empty-dirs --no-resave-data ggspavis StartedAt: 2025-04-21 16:28:44 -0400 (Mon, 21 Apr 2025) EndedAt: 2025-04-21 16:29:24 -0400 (Mon, 21 Apr 2025) EllapsedTime: 39.4 seconds RetCode: 0 Status: OK PackageFile: ggspavis_1.14.0.tar.gz PackageFileSize: 6.82 MiB