Package: ggspavis Version: 1.12.0 Command: /Library/Frameworks/R.framework/Resources/bin/R CMD INSTALL ggspavis StartedAt: 2025-01-30 15:43:39 -0500 (Thu, 30 Jan 2025) EndedAt: 2025-01-30 15:44:11 -0500 (Thu, 30 Jan 2025) EllapsedTime: 31.9 seconds RetCode: 0 Status: OK