Package: ggseqalign Version: 1.2.0 Command: rm -rf ggseqalign.buildbin-libdir && mkdir ggseqalign.buildbin-libdir && E:\biocbuild\bbs-3.21-bioc\R\bin\R.exe CMD INSTALL --build --library=ggseqalign.buildbin-libdir ggseqalign_1.2.0.tar.gz StartedAt: 2025-08-15 09:24:03 -0400 (Fri, 15 Aug 2025) EndedAt: 2025-08-15 09:24:19 -0400 (Fri, 15 Aug 2025) EllapsedTime: 16.1 seconds RetCode: 0 Status: OK PackageFile: ggseqalign_1.2.0.zip PackageFileSize: 509.5 KiB