Package: ggsc Version: 1.4.0 Command: /home/biocbuild/R/R/bin/R CMD check --install=check:ggsc.install-out.txt --library=/home/biocbuild/R/R/site-library --no-vignettes --timings ggsc_1.4.0.tar.gz StartedAt: 2025-01-31 06:44:21 -0000 (Fri, 31 Jan 2025) EndedAt: 2025-01-31 06:44:44 -0000 (Fri, 31 Jan 2025) EllapsedTime: 23.0 seconds RetCode: 1 Status: ERROR CheckDir: ggsc.Rcheck Warnings: NA