Package: ggmsa Version: 1.14.1 Command: rm -rf ggmsa.buildbin-libdir && mkdir ggmsa.buildbin-libdir && /Users/biocbuild/BBS/utils/build-universal.sh ggmsa_1.14.1.tar.gz /Library/Frameworks/R.framework/Resources/bin/R ggmsa.buildbin-libdir StartedAt: 2025-10-08 21:06:58 -0400 (Wed, 08 Oct 2025) EndedAt: 2025-10-08 21:07:20 -0400 (Wed, 08 Oct 2025) EllapsedTime: 22.9 seconds RetCode: 0 Status: OK PackageFile: ggmsa_1.14.1.tgz PackageFileSize: 2.373 MiB