Package: ggmsa Version: 1.14.0 Maintainer: Guangchuang Yu MaintainerEmail: guangchuangyu at gmail.com git_url: https://git.bioconductor.org/packages/ggmsa git_branch: RELEASE_3_21 git_last_commit: e792688 git_last_commit_date: 2025-04-15 12:39:03 -0400 (Tue, 15 Apr 2025)