Package: ggkegg Version: 1.4.1 Command: /home/biocbuild/R/R/bin/R CMD INSTALL ggkegg StartedAt: 2025-01-30 20:19:48 -0000 (Thu, 30 Jan 2025) EndedAt: 2025-01-30 20:20:02 -0000 (Thu, 30 Jan 2025) EllapsedTime: 14.3 seconds RetCode: 0 Status: OK