Package: ggkegg Version: 1.4.1 Command: /home/biocbuild/R/R/bin/R CMD check --install=check:ggkegg.install-out.txt --library=/home/biocbuild/R/R/site-library --no-vignettes --timings ggkegg_1.4.1.tar.gz StartedAt: 2025-02-04 07:26:28 -0000 (Tue, 04 Feb 2025) EndedAt: 2025-02-04 07:28:16 -0000 (Tue, 04 Feb 2025) EllapsedTime: 108.0 seconds RetCode: 0 Status: OK CheckDir: ggkegg.Rcheck Warnings: 0