Package: ggbio Version: 1.54.0 Command: F:\biocbuild\bbs-3.20-bioc\R\bin\R.exe CMD check --no-multiarch --install=check:ggbio.install-out.txt --library=F:\biocbuild\bbs-3.20-bioc\R\library --no-vignettes --timings ggbio_1.54.0.tar.gz StartedAt: 2025-01-31 02:29:00 -0500 (Fri, 31 Jan 2025) EndedAt: 2025-01-31 02:41:27 -0500 (Fri, 31 Jan 2025) EllapsedTime: 747.2 seconds RetCode: 0 Status: WARNINGS CheckDir: ggbio.Rcheck Warnings: 2