Package: ggbio Version: 1.54.0 Command: rm -rf ggbio.buildbin-libdir && mkdir ggbio.buildbin-libdir && F:\biocbuild\bbs-3.20-bioc\R\bin\R.exe CMD INSTALL --build --library=ggbio.buildbin-libdir ggbio_1.54.0.tar.gz StartedAt: 2025-01-31 08:45:09 -0500 (Fri, 31 Jan 2025) EndedAt: 2025-01-31 08:47:54 -0500 (Fri, 31 Jan 2025) EllapsedTime: 164.4 seconds RetCode: 0 Status: OK PackageFile: ggbio_1.54.0.zip PackageFileSize: 3.285 MiB