Package: ggbio Version: 1.54.0 Command: rm -rf ggbio.buildbin-libdir && mkdir ggbio.buildbin-libdir && /Users/biocbuild/BBS/utils/build-universal.sh ggbio_1.54.0.tar.gz /Library/Frameworks/R.framework/Resources/bin/R ggbio.buildbin-libdir StartedAt: 2024-11-09 16:51:44 -0500 (Sat, 09 Nov 2024) EndedAt: 2024-11-09 16:52:09 -0500 (Sat, 09 Nov 2024) EllapsedTime: 24.5 seconds RetCode: 0 Status: OK PackageFile: ggbio_1.54.0.tgz PackageFileSize: 3.267 MiB