Package: ggbio Version: 1.54.0 Command: rm -rf ggbio.buildbin-libdir && mkdir ggbio.buildbin-libdir && /Users/biocbuild/BBS/utils/build-universal.sh ggbio_1.54.0.tar.gz /Library/Frameworks/R.framework/Resources/bin/R ggbio.buildbin-libdir StartedAt: 2025-02-01 15:07:15 -0500 (Sat, 01 Feb 2025) EndedAt: 2025-02-01 15:08:29 -0500 (Sat, 01 Feb 2025) EllapsedTime: 74.5 seconds RetCode: 0 Status: OK PackageFile: ggbio_1.54.0.tgz PackageFileSize: 3.265 MiB